BEGIN:VCALENDAR
VERSION:2.0
PRODID:-//Diocese of St. Augustine - ECPv4.9.10//NONSGML v1.0//EN
CALSCALE:GREGORIAN
METHOD:PUBLISH
X-WR-CALNAME:Diocese of St. Augustine
X-ORIGINAL-URL:https://dosafl.com
X-WR-CALDESC:Events for Diocese of St. Augustine
BEGIN:VTIMEZONE
TZID:America/New_York
BEGIN:DAYLIGHT
TZOFFSETFROM:-0500
TZOFFSETTO:-0400
TZNAME:EDT
DTSTART:20210314T070000
END:DAYLIGHT
BEGIN:STANDARD
TZOFFSETFROM:-0400
TZOFFSETTO:-0500
TZNAME:EST
DTSTART:20211107T060000
END:STANDARD
END:VTIMEZONE
BEGIN:VEVENT
DTSTART;TZID=America/New_York:20210923T190000
DTEND;TZID=America/New_York:20210923T203000
DTSTAMP:20260423T181712
CREATED:20210723T180226Z
LAST-MODIFIED:20210723T180226Z
UID:70733-1632423600-1632429000@dosafl.com
SUMMARY:Virtual Catechumeneon in Spanish- Una Introduccion at RICA
DESCRIPTION:Basics of RCIA in Spanish\, a six week course co-sponsored with Liturgy Training Publications will be available as a virtual event. \nThe cost for this 6 week training is $120* per computer. \n*The OCF will be funding 1/2 of each computer/registrant up to 15. \nThe training will occur on Thursday evenings\, September 2\, September 9\, September 16\, September 23\, September 30\, and October 7\, 2021   7:00PM – 8:30PM   (ET) \nDeadline for reservations   August 30\, 2021 \n
URL:https://dosafl.com/event/virtual-catechumeneon-in-spanish-una-introduccion-at-rica-2021-09-23/
CATEGORIES:Faith Formation,General Events
ORGANIZER;CN="Erin%20McGeever":MAILTO:emcgeever@dosafl.com
END:VEVENT
END:VCALENDAR