BEGIN:VCALENDAR
VERSION:2.0
PRODID:-//Diocese of St. Augustine - ECPv4.9.10//NONSGML v1.0//EN
CALSCALE:GREGORIAN
METHOD:PUBLISH
X-WR-CALNAME:Diocese of St. Augustine
X-ORIGINAL-URL:https://dosafl.com
X-WR-CALDESC:Events for Diocese of St. Augustine
BEGIN:VTIMEZONE
TZID:America/New_York
BEGIN:DAYLIGHT
TZOFFSETFROM:-0500
TZOFFSETTO:-0400
TZNAME:EDT
DTSTART:20230312T070000
END:DAYLIGHT
BEGIN:STANDARD
TZOFFSETFROM:-0400
TZOFFSETTO:-0500
TZNAME:EST
DTSTART:20231105T060000
END:STANDARD
END:VTIMEZONE
BEGIN:VEVENT
DTSTART;TZID=America/New_York:20230621T090000
DTEND;TZID=America/New_York:20230621T150000
DTSTAMP:20260422T071702
CREATED:20221109T155347Z
LAST-MODIFIED:20221109T155347Z
UID:78872-1687338000-1687359600@dosafl.com
SUMMARY:Summer School of Theology
DESCRIPTION:Preparing the Lord’s Day Eucharist: A Pastoral Approach to Sunday Mass. The classes will run Monday through Friday at Marywood Retreat & Conference Center. The presenter is Father Tom Willis\, M.A.\, pastor at St. Mark Mission and Diocesan Director of Liturgy. For more information and to register\, visit https://form.jotform.com/220626550350144 or contact Erin McGeever at emcgeever@dosafl.com. \n
URL:https://dosafl.com/event/summer-school-of-theology-2023-06-21/
LOCATION:Marywood Retreat & Conference Center\, 235 Marywood Drive\, St. Johns\, FL\, 32259\, United States
CATEGORIES:Faith Formation,General Events
END:VEVENT
END:VCALENDAR