BEGIN:VCALENDAR
VERSION:2.0
PRODID:-//Diocese of St. Augustine - ECPv4.9.10//NONSGML v1.0//EN
CALSCALE:GREGORIAN
METHOD:PUBLISH
X-WR-CALNAME:Diocese of St. Augustine
X-ORIGINAL-URL:https://dosafl.com
X-WR-CALDESC:Events for Diocese of St. Augustine
BEGIN:VTIMEZONE
TZID:America/New_York
BEGIN:DAYLIGHT
TZOFFSETFROM:-0500
TZOFFSETTO:-0400
TZNAME:EDT
DTSTART:20220313T070000
END:DAYLIGHT
BEGIN:STANDARD
TZOFFSETFROM:-0400
TZOFFSETTO:-0500
TZNAME:EST
DTSTART:20221106T060000
END:STANDARD
END:VTIMEZONE
BEGIN:VEVENT
DTSTART;TZID=America/New_York:20220320T190000
DTEND;TZID=America/New_York:20220320T200000
DTSTAMP:20260423T074913
CREATED:20220302T210059Z
LAST-MODIFIED:20220302T210059Z
UID:74773-1647802800-1647806400@dosafl.com
SUMMARY:Lenten Parish Mission (Corpus Christi\, St. Augustine)
DESCRIPTION:Contact the parish for details. \n
URL:https://dosafl.com/event/lenten-parish-mission-corpus-christi-st-augustine/
LOCATION:Corpus Christi Parish\, 6175 Datil Pepper Road\, St. Augustine\, FL\, 32086\, United States
CATEGORIES:General Events
END:VEVENT
END:VCALENDAR