BEGIN:VCALENDAR
VERSION:2.0
PRODID:-//Diocese of St. Augustine - ECPv4.9.10//NONSGML v1.0//EN
CALSCALE:GREGORIAN
METHOD:PUBLISH
X-WR-CALNAME:Diocese of St. Augustine
X-ORIGINAL-URL:https://dosafl.com
X-WR-CALDESC:Events for Diocese of St. Augustine
BEGIN:VTIMEZONE
TZID:America/New_York
BEGIN:DAYLIGHT
TZOFFSETFROM:-0500
TZOFFSETTO:-0400
TZNAME:EDT
DTSTART:20220313T070000
END:DAYLIGHT
BEGIN:STANDARD
TZOFFSETFROM:-0400
TZOFFSETTO:-0500
TZNAME:EST
DTSTART:20221106T060000
END:STANDARD
END:VTIMEZONE
BEGIN:VEVENT
DTSTART;TZID=America/New_York:20221108T190000
DTEND;TZID=America/New_York:20221108T190000
DTSTAMP:20260422T190837
CREATED:20220813T185221Z
LAST-MODIFIED:20220813T185221Z
UID:75844-1667934000-1667934000@dosafl.com
SUMMARY:Kerygma Evangelization Retreat at St. Catherine (Post Sessions)
DESCRIPTION:All sessions in Parish Family Life Center. Childcare is available upon request. No overnights!\nMeals are provided on Saturday and Sunday. All are welcome. \nCost: $25.00 per person.\n(Scholarships are available) \nIt is important to attend all sessions to have the full experience of the retreat. \nFor more information\, contact Vincent Reilly at formation@stcatherineop.com OR register online at WWW.STCATHERINEOP.COM/KERYGMA \nClick here for more information. \n
URL:https://dosafl.com/event/kerygma-evangelization-retreat-at-st-catherine-post-sessions-2022-11-08/
LOCATION:St. Catherine of Siena Parish\, 1649 Kingsley Avenue\, Orange Park\, FL\, 32073\, United States
CATEGORIES:Faith Formation,General Events
END:VEVENT
END:VCALENDAR