BEGIN:VCALENDAR
VERSION:2.0
PRODID:-//Diocese of St. Augustine - ECPv4.9.10//NONSGML v1.0//EN
CALSCALE:GREGORIAN
METHOD:PUBLISH
X-WR-CALNAME:Diocese of St. Augustine
X-ORIGINAL-URL:https://dosafl.com
X-WR-CALDESC:Events for Diocese of St. Augustine
BEGIN:VTIMEZONE
TZID:America/New_York
BEGIN:DAYLIGHT
TZOFFSETFROM:-0500
TZOFFSETTO:-0400
TZNAME:EDT
DTSTART:20220313T070000
END:DAYLIGHT
BEGIN:STANDARD
TZOFFSETFROM:-0400
TZOFFSETTO:-0500
TZNAME:EST
DTSTART:20221106T060000
END:STANDARD
END:VTIMEZONE
BEGIN:VEVENT
DTSTART;TZID=America/New_York:20220805T180000
DTEND;TZID=America/New_York:20220805T180000
DTSTAMP:20260422T234628
CREATED:20220517T182218Z
LAST-MODIFIED:20220517T182218Z
UID:75290-1659722400-1659722400@dosafl.com
SUMMARY:First Friday Art Walk Concert Series
DESCRIPTION:First Fridays of the month at 6:00PM \nhttps://thefirstparish.org/music-schedule/ \nJune – 6/3 6:00PM – Chad Levitt\, Organ \nJuly – No First Friday Concert — SAMF performance at 7:30PM that evening (7/1) \nAugust – 8/5 6:00PM – David McIntyre\, Countertenor and Michael Giuliani\, Organ \n  \n— \n  \n
URL:https://dosafl.com/event/first-friday-art-walk-concert-series-2-2022-08-05/
LOCATION:Cathedral Basilica of St. Augustine\, 38 Cathedral Place\, St. Augustine\, FL\, 32084\, United States
END:VEVENT
END:VCALENDAR