BEGIN:VCALENDAR
VERSION:2.0
PRODID:-//Diocese of St. Augustine - ECPv4.9.10//NONSGML v1.0//EN
CALSCALE:GREGORIAN
METHOD:PUBLISH
X-WR-CALNAME:Diocese of St. Augustine
X-ORIGINAL-URL:https://dosafl.com
X-WR-CALDESC:Events for Diocese of St. Augustine
BEGIN:VTIMEZONE
TZID:America/New_York
BEGIN:DAYLIGHT
TZOFFSETFROM:-0500
TZOFFSETTO:-0400
TZNAME:EDT
DTSTART:20260308T070000
END:DAYLIGHT
BEGIN:STANDARD
TZOFFSETFROM:-0400
TZOFFSETTO:-0500
TZNAME:EST
DTSTART:20261101T060000
END:STANDARD
END:VTIMEZONE
BEGIN:VEVENT
DTSTART;TZID=America/New_York:20260502T100000
DTEND;TZID=America/New_York:20260502T110000
DTSTAMP:20260420T182633
CREATED:20251006T144945Z
LAST-MODIFIED:20251006T144945Z
UID:95743-1777716000-1777719600@dosafl.com
SUMMARY:Confirmation #1
DESCRIPTION:
URL:https://dosafl.com/event/confirmation-1-2/
LOCATION:San Juan del Rio Catholic Church\, 1718 State Road 13 N.\, St. Johns\, FL\, 32259\, United States
CATEGORIES:Bishop Felipe J. Estévez,General Events
END:VEVENT
END:VCALENDAR