BEGIN:VCALENDAR
VERSION:2.0
PRODID:-//Diocese of St. Augustine - ECPv4.9.10//NONSGML v1.0//EN
CALSCALE:GREGORIAN
METHOD:PUBLISH
X-WR-CALNAME:Diocese of St. Augustine
X-ORIGINAL-URL:https://dosafl.com
X-WR-CALDESC:Events for Diocese of St. Augustine
BEGIN:VTIMEZONE
TZID:America/New_York
BEGIN:DAYLIGHT
TZOFFSETFROM:-0500
TZOFFSETTO:-0400
TZNAME:EDT
DTSTART:20220313T070000
END:DAYLIGHT
BEGIN:STANDARD
TZOFFSETFROM:-0400
TZOFFSETTO:-0500
TZNAME:EST
DTSTART:20221106T060000
END:STANDARD
END:VTIMEZONE
BEGIN:VEVENT
DTSTART;TZID=America/New_York:20220118T190000
DTEND;TZID=America/New_York:20220118T210000
DTSTAMP:20260423T104432
CREATED:20220118T205711Z
LAST-MODIFIED:20220118T205711Z
UID:73918-1642532400-1642539600@dosafl.com
SUMMARY:Blessed Trinity Catholic Church Holy Week Parish Mission
DESCRIPTION:Blessed Trinity Catholic Church Holy Week Parish Mission April 11-13: “A Journey to Joy!” is great for the whole family! All are welcome! Emmy-Nominated Frank Runyeon has starred in over 1\,000 TV shows in the last 30 years. Frank is Catholic\, an honors graduate of Seminary and Princeton University. Check out www.frankrunyeon.com Join us on Monday\, April 11 at  7:00 p.m. for Luke: Stories on the Road\, Tuesday\, April 12at  7:00 p.m. for Sermon on the Mount\, and Wednesday\, April 13 at 7:00 p.m. for Hollywood vs. Faith. Visit our website www.btccjax.org and follow us on Facebook @BTCatholicChurchJaxFL for more details. \nThis is a little more detail of each night- \nMonday\, April 11\, 7:00 p.m. – Luke: Stories on the Road. \nThe famous parables that Jesus told on the road to Jerusalem … as you’ve never heard them! Filled with humor and punctuated by insightful personal reflections… An entertaining and eye-opening evening that helps us to “have ears to hear” these stories in a new way: as stories addressed to us personally… about our lives\, here and now. \n  \nTuesday\, April 12\, 7:00 p.m. – Sermon on the Mount. \nMatthew proclaims the joy of the Beatitudes to his house-church in Antioch\, a community filled with characters whose stories echo our own…A night of humor and new insights. \n  \nWednesday\, April 13\, 7:00 p.m. – Hollywood vs. Faith. \nEveryone is hotly debating the influence of the media today…But few people are speaking a language that captures the attention of youth and adults\, sheds new light—and ignites laughter.  Frank helps his audience see “the man behind the curtain\,” telling fun stories from a lifetime in the entertainment industry.  He may change the way you (and your kids) see the media forever. \n
URL:https://dosafl.com/event/blessed-trinity-catholic-church-holy-week-parish-mission/
CATEGORIES:General Events
END:VEVENT
END:VCALENDAR