BEGIN:VCALENDAR
VERSION:2.0
PRODID:-//Diocese of St. Augustine - ECPv4.9.10//NONSGML v1.0//EN
CALSCALE:GREGORIAN
METHOD:PUBLISH
X-WR-CALNAME:Diocese of St. Augustine
X-ORIGINAL-URL:https://dosafl.com
X-WR-CALDESC:Events for Diocese of St. Augustine
BEGIN:VTIMEZONE
TZID:America/New_York
BEGIN:DAYLIGHT
TZOFFSETFROM:-0500
TZOFFSETTO:-0400
TZNAME:EDT
DTSTART:20220313T070000
END:DAYLIGHT
BEGIN:STANDARD
TZOFFSETFROM:-0400
TZOFFSETTO:-0500
TZNAME:EST
DTSTART:20221106T060000
END:STANDARD
END:VTIMEZONE
BEGIN:VEVENT
DTSTART;VALUE=DATE:20220910
DTEND;VALUE=DATE:20220912
DTSTAMP:20260422T221923
CREATED:20220404T183044Z
LAST-MODIFIED:20220404T183650Z
UID:75040-1662768000-1662940799@dosafl.com
SUMMARY:Basic Certification Classes at St. Monica Parish Hall
DESCRIPTION:The Office of Christian Formation is offering the Basic Certification classes all in two weekends at St. Monica Parish Hall \nClasses will be 2 weekends: Pricing for the classes  $70  for all four days  or $20 per day \nSeptember 10    9:00 a.m.-3:00 p.m.  Role of the Catechist and Practical Skills  \nSeptember 11   12:30 p.m.- 6:00 p.m. Liturgy and Sacraments  and Basic Beliefs \n  \nSeptember 24    9:00 a.m.-3:00 p.m.  Scripture and Church \nSeptember 25    12:30 p.m.- 6:00 p.m. Faith Development and Cat/Legal/Admin \n  \n
URL:https://dosafl.com/event/basic-certification-classes-at-st-monica-parish-hall/
LOCATION:St. Monica Parish\, 114 S. 4th Street\, Palatka\, FL\, 32177\, United States
CATEGORIES:Faith Formation,General Events
ORGANIZER;CN="Erin%20McGeever":MAILTO:emcgeever@dosafl.com
END:VEVENT
END:VCALENDAR