BEGIN:VCALENDAR
VERSION:2.0
PRODID:-//Diocese of St. Augustine - ECPv4.9.10//NONSGML v1.0//EN
CALSCALE:GREGORIAN
METHOD:PUBLISH
X-WR-CALNAME:Diocese of St. Augustine
X-ORIGINAL-URL:https://dosafl.com
X-WR-CALDESC:Events for Diocese of St. Augustine
BEGIN:VTIMEZONE
TZID:America/New_York
BEGIN:DAYLIGHT
TZOFFSETFROM:-0500
TZOFFSETTO:-0400
TZNAME:EDT
DTSTART:20210314T070000
END:DAYLIGHT
BEGIN:STANDARD
TZOFFSETFROM:-0400
TZOFFSETTO:-0500
TZNAME:EST
DTSTART:20211107T060000
END:STANDARD
END:VTIMEZONE
BEGIN:VEVENT
DTSTART;TZID=America/New_York:20211009T090000
DTEND;TZID=America/New_York:20211009T120000
DTSTAMP:20260423T151320
CREATED:20210914T154019Z
LAST-MODIFIED:20210914T154019Z
UID:71659-1633770000-1633780800@dosafl.com
SUMMARY:Adventures in Marriage
DESCRIPTION:Create the marriage you want with the spouse you already have! Join the Marriage & Family Life Ministry at St. Catherine of Siena Catholic Church from 9 am to 12 PM on October 2\, 9\, 23 and 30 for a four-session dynamic marriage workshop\, where you will learn practical\, impactful skills to improve communication and resolve conflict in your marriage. You can register and find more details here: https://aimclasses.org/detail/jacksonville/st-catherine-sienna-catholic-church-parish-family-life-center-st-catherine-room/1929 or Contact John Castillo\, Parish Marriage & Family Life Coordinator at stcatmarriage.familylife@gmail.com or (904) 613-1824. \n
URL:https://dosafl.com/event/adventures-in-marriage-3/
LOCATION:St. Catherine of Siena Parish\, 1649 Kingsley Avenue\, Orange Park\, FL\, 32073\, United States
CATEGORIES:Family Life Office,General Events
ORGANIZER;CN="Marriage-Building%20Parish%20St%20Catherine":MAILTO:formation@stcatherineop.com
END:VEVENT
END:VCALENDAR