BEGIN:VCALENDAR
VERSION:2.0
PRODID:-//Diocese of St. Augustine - ECPv4.9.10//NONSGML v1.0//EN
CALSCALE:GREGORIAN
METHOD:PUBLISH
X-WR-CALNAME:Diocese of St. Augustine
X-ORIGINAL-URL:https://dosafl.com
X-WR-CALDESC:Events for Diocese of St. Augustine
BEGIN:VTIMEZONE
TZID:America/New_York
BEGIN:DAYLIGHT
TZOFFSETFROM:-0500
TZOFFSETTO:-0400
TZNAME:EDT
DTSTART:20230312T070000
END:DAYLIGHT
BEGIN:STANDARD
TZOFFSETFROM:-0400
TZOFFSETTO:-0500
TZNAME:EST
DTSTART:20231105T060000
END:STANDARD
END:VTIMEZONE
BEGIN:VEVENT
DTSTART;TZID=America/New_York:20230403T190000
DTEND;TZID=America/New_York:20230403T203000
DTSTAMP:20260422T104313
CREATED:20230224T185207Z
LAST-MODIFIED:20230224T190029Z
UID:78484-1680548400-1680553800@dosafl.com
SUMMARY:2023 Lenten Series: The Catholic Mass Explained
DESCRIPTION:The Diocese of St. Augustine is sponsoring a five-part weekly series on the Mass at Marywood Retreat & Conference Center\, 235 Marywood Dr.\, St. Johns\, from 7 to 8:30 p.m. each Monday night. Co-sponsored by the Eucharistic Revival Committee and the Office of Christian Formation\, there is no charge but a free-will offering from those in attendance would be appreciated. Guest speakers are: Dr. Bernie Sans\, “Singing to the Lord: Sacred Music in Worship” on Mar. 6; Father Tom Willis\, “Celebrating the Paschal Mystery: History & Development of the Liturgy” on Mar. 13; Father Timothy Lindenfelser\, “Proclaiming & Responding: The Liturgy of the Word” on Mar. 20; Letty Valentin\, M.A.\, “Joining in the Sacrifice: The Liturgy of the Eucharist” on Mar. 27; Father Michael Kieler\, “Living the Liturgical Year: How the Church Marks Time” on Apr. 3. For more information\, email Erin McGeever at emcgeever@dosafl.com. \n
URL:https://dosafl.com/event/2023-lenten-series-the-catholic-mass-explained-2023-04-03/
LOCATION:Marywood Retreat & Conference Center\, 235 Marywood Drive\, St. Johns\, FL\, 32259\, United States
CATEGORIES:Faith Formation,General Events
ATTACH;FMTTYPE=image/png:https://dosafl.com/wp-content/uploads/2023/02/2023-Lenten-Series-at-Marywood.png
ORGANIZER;CN="Office%20of%20Christian%20Formation":MAILTO:emcgeever@dosafl.com
END:VEVENT
END:VCALENDAR