BEGIN:VCALENDAR
VERSION:2.0
PRODID:-//Diocese of St. Augustine - ECPv4.9.10//NONSGML v1.0//EN
CALSCALE:GREGORIAN
METHOD:PUBLISH
X-WR-CALNAME:Diocese of St. Augustine
X-ORIGINAL-URL:https://dosafl.com
X-WR-CALDESC:Events for Diocese of St. Augustine
BEGIN:VTIMEZONE
TZID:America/New_York
BEGIN:DAYLIGHT
TZOFFSETFROM:-0500
TZOFFSETTO:-0400
TZNAME:EDT
DTSTART:20260308T070000
END:DAYLIGHT
BEGIN:STANDARD
TZOFFSETFROM:-0400
TZOFFSETTO:-0500
TZNAME:EST
DTSTART:20261101T060000
END:STANDARD
END:VTIMEZONE
BEGIN:VEVENT
DTSTART;VALUE=DATE:20260522
DTEND;VALUE=DATE:20260526
DTSTAMP:20260424T175050
CREATED:20260417T202748Z
LAST-MODIFIED:20260417T202814Z
UID:98920-1779408000-1779753599@dosafl.com
SUMMARY:Memorial Day Weekend—National Shrine Events
DESCRIPTION:These events enrich the pilgrimage weekend at the National Shrine\, Mission Nombre de Dios\, and along the First Coast Camino. These events are in addition to the National Eucharistic Pilgrimage schedule.\nFriday\, May 22—National Shrine Our Lady of La Leche Shrine\, St. Augustine\n\n12:00 p.m. · Pilgrim Mass — Main Church\n1:00–3:00 p.m. · Exposition — MainChurch\n6:00–8:00 p.m. · Sacrament of Reconciliation (additional availability; multiple locations around the Shrine)\n5:30–9:00 p.m. · Opening Concert & Welcome on the Great Cross Ellipse NOTE: This event requires a paid ticket for entry.\n4:00–10:00 p.m. · Food trucks on the Shrine field\nHospitality: Rest tents\, picnic/family games; extended Gift Shop hours and National Eucharistic Pilgrimage souvenir tent\n\nSaturday\, May 23—National Shrine Our Lady of La Leche Shrine\, St. Augustine\nSacraments & Devotions \n\n12:00 p.m. · Pilgrim Mass — Main Church\n1:30 P.M. · Spanish Mass— Main Church\n8:30–11:30 a.m. & 3:00–7:00 p.m. · Reconciliation (additional availability; multiple Shrine locations)\n8:00 A.M. – 5:00 p.m. · Exposition — Historic Chapel\nPeriodic Group Devotions (all day): Rosary (Rosary Garden); Seven Sorrows of Mary (Sacred Acre; every ~2 hours); Stations of the Cross (Great Cross Ellipse) · 8:30 p.m. · Candlelit Rosary (Rosary Garden)\n\nFirst Coast Camino (Order of Malta)\n\n6:00 a.m. – 12:00 p.m. · 2.5 Mile Mini Camino walk from the Shrine through Vilano Beach (key connections to First Coast Camino)\n11:00 a.m. – 5:00 p.m. · Arrival window for Camino de las Américas — on the First Coast hikers\n\nShrine receiving line open for passport stamps & certificates\n\n\nRegister for each Camino on Order of Malta website\n\nLearn more about the First Coast Camino\, the Feast of St. James and the connections to Camino Santiago. \nEvents & Speaker Series (Father Lopez Room unless otherwise noted)\n\nLecture series: Flagler history; Lesson on the Rosary; Florida Martyrs; discussions with religious orders (e.g.\, SCTJM)\n2:00–3:30 p.m. · Modified Founders’ Day Landing ceremony → procession of the National Eucharistic Pilgrimage ceremonial monstrance (empty) to the Main Church in preparation for Sunday’s Mass; reenactor “celebrity” photo opportunities at various Shrine locations afterward\nEWTN “Hidden Gems” screenings throughout the weekend (Father Lopez Room)\nOffsite city walking tours at periodic times; Tram service to city center (Cathedral Basilica; St. Benedict the Moor relics tours)\nMinistry display tables (e.g.\, KofC\, HLD) at the Welcome Center (Gift Shop/Museum)\, 8:30 a.m. – 4:00 p.m.\n\nSunday\, May 24—National Shrine Our Lady of La Leche Shrine\, St. Augustine\n\n1:00 p.m. · Pilgrim Mass — Main Church\nService Project\n\nMonday\, May 25—National Shrine Our Lady of La Leche Shrine\, St. Augustine\n\nPrior to 12:00 p.m. · Memorial Day wreath ceremony (Shrine grounds)\n12:00 p.m. Mass — Rustic Altar\nHosting: EP Cadre’s Retreat on Shrine grounds (daytime)\n\nClick here to download the Memorial Day Weekend event flyer. \n \n
URL:https://dosafl.com/event/memorial-day-weekend-national-shrine-events/
LOCATION:National Shrine of Our Lady of La Leche at Mission Nombre de Dios\, 101 San Marco Avenue\, St. Augustine\, FL\, 32084\, United States
CATEGORIES:Bishop Pohlmeier,General Events,National Eucharistic Pilgrimage,Social
ORGANIZER;CN="National%20Shrine%20of%20Our%20Lady%20of%20La%20Leche%20at%20Mission%20Nombre%20de%20Dios":MAILTO:info@missionandshrine.org
END:VEVENT
BEGIN:VEVENT
DTSTART;VALUE=DATE:20260524
DTEND;VALUE=DATE:20260526
DTSTAMP:20260424T175050
CREATED:20260313T155315Z
LAST-MODIFIED:20260413T165442Z
UID:98419-1779580800-1779753599@dosafl.com
SUMMARY:National Eucharistic Pilgrimage in the Diocese of St. Augustine
DESCRIPTION:In renewal of our Catholic Faith and in honor of America’s 250th Anniversary \nAs the United States approaches its 250th anniversary\, a National Eucharistic Pilgrimage will begin in the nation’s oldest Catholic city\, linking the earliest chapter of Catholic life in this land with a new generation of pilgrims carrying the Eucharist across the country. \nThe 2026 National Eucharistic Pilgrimage will begin Memorial Day weekend at the National Shrine of Our Lady of La Leche at Mission Nombre de Dios in St. Augustine before traveling north along the East Coast and concluding in Philadelphia near Independence Day. \n“One Nation Under God” invites all the faithful\, families\, parishes\, and neighbors to enter a sacred time of unity\, healing\, and hope. Together\, we will walk with Our Lord in the Most Holy Eucharist—giving thanks for God’s unfailing presence and praying for our country\, our Church\, and our communities. \nCome as a parish\, a family\, a ministry group\, or on your own. Clergy\, religious\, lay faithful\, youth and young adults\, and those exploring the Catholic faith—all are invited to walk with Jesus\, the Bread of Life. \nPlease register in advance so we can plan accordingly for the expected number of people. All events are free!  \nClick here to view the full diocesan calendar of events for the National Eucharistic Pilgrimage. Click here to register for events within the Diocese of St. Augustine. Click here to download an event flyer. Click here to visit the National Eucharistic Pilgrimage website.\n \n
URL:https://dosafl.com/event/national-eucharistic-pilgrimage/
LOCATION:St. Augustine\, Jacksonville\, Fernandina Beach\, FL\, United States
CATEGORIES:Bishop Pohlmeier,General Events,National Eucharistic Pilgrimage,Social
ORGANIZER;CN="National%20Eucharistic%20Pilgrimage":MAILTO:pilgrimage250@dosafl.com
END:VEVENT
END:VCALENDAR