BEGIN:VCALENDAR
VERSION:2.0
PRODID:-//Diocese of St. Augustine - ECPv4.9.10//NONSGML v1.0//EN
CALSCALE:GREGORIAN
METHOD:PUBLISH
X-WR-CALNAME:Diocese of St. Augustine
X-ORIGINAL-URL:https://dosafl.com
X-WR-CALDESC:Events for Diocese of St. Augustine
BEGIN:VTIMEZONE
TZID:America/New_York
BEGIN:DAYLIGHT
TZOFFSETFROM:-0500
TZOFFSETTO:-0400
TZNAME:EDT
DTSTART:20260308T070000
END:DAYLIGHT
BEGIN:STANDARD
TZOFFSETFROM:-0400
TZOFFSETTO:-0500
TZNAME:EST
DTSTART:20261101T060000
END:STANDARD
END:VTIMEZONE
BEGIN:VEVENT
DTSTART;TZID=America/New_York:20260520T100000
DTEND;TZID=America/New_York:20260520T113000
DTSTAMP:20260424T114303
CREATED:20260326T180751Z
LAST-MODIFIED:20260326T180751Z
UID:98580-1779271200-1779276600@dosafl.com
SUMMARY:Muffins4Life
DESCRIPTION:Mary Huston of Rachel’s Vineyard\, a safe place to renew\, rebuild and redeem hearts broken by abortion. Weekend retreats offer a supportive\, confidential environment. The event will be held at Mary\, Queen of Heaven\, 9401 Staples Mill Drive\, Jacksonville. Muffins4Life brings together life-affirming organizations and individuals in the pro-life ministry to open communication channels among participants over a great muffin! It is a time to discuss pro-life issues and meet to share pro-life initiatives. Look for the yard signs! Registration is mandatory. \n
URL:https://dosafl.com/event/muffins4life-2/
LOCATION:Mary\, Queen of Heaven Parish\, 9401 Staples Mill Drive\, Jacksonville\, FL\, 32244\, United States
CATEGORIES:Human Life & Dignity,Social
END:VEVENT
END:VCALENDAR