BEGIN:VCALENDAR
VERSION:2.0
PRODID:-//Diocese of St. Augustine - ECPv4.9.10//NONSGML v1.0//EN
CALSCALE:GREGORIAN
METHOD:PUBLISH
X-WR-CALNAME:Diocese of St. Augustine
X-ORIGINAL-URL:https://dosafl.com
X-WR-CALDESC:Events for Diocese of St. Augustine
BEGIN:VTIMEZONE
TZID:America/New_York
BEGIN:DAYLIGHT
TZOFFSETFROM:-0500
TZOFFSETTO:-0400
TZNAME:EDT
DTSTART:20260308T070000
END:DAYLIGHT
BEGIN:STANDARD
TZOFFSETFROM:-0400
TZOFFSETTO:-0500
TZNAME:EST
DTSTART:20261101T060000
END:STANDARD
END:VTIMEZONE
BEGIN:VEVENT
DTSTART;VALUE=DATE:20260518
DTEND;VALUE=DATE:20260519
DTSTAMP:20260424T083113
CREATED:20260224T152700Z
LAST-MODIFIED:20260224T153534Z
UID:97955-1779062400-1779148799@dosafl.com
SUMMARY:Faith and Sharing Retreat
DESCRIPTION:A Faith and Sharing Retreat will be held at the Marywood Retreat and Conference Center in St. Johns on May 18 to 21. Masses will be offered by Bishop Erik Pohlmeier\, Bishop Emeritus Felipe Estevez\, and Father Bernie Tan Dang\, CRM. The retreat will provide spiritual and social experiences in a welcoming community open to all\, including people with disabilities. Each day during the four-day retreat will include Mass\, small group sharing\, arts & crafts\, adaptive pool activities\, games\, nature walks and time to grow in faith and friendships. Contact Sister Rita Baum\, SSJ\, for more information at 904-826-7365. Messages can be left via voice or text. Below is a brochure for the event.  \n \n
URL:https://dosafl.com/event/faith-and-sharing-retreat/
LOCATION:Marywood Retreat & Conference Center\, 235 Marywood Drive\, St. Johns\, FL\, 32259\, United States
CATEGORIES:General Events,Social
END:VEVENT
END:VCALENDAR