BEGIN:VCALENDAR
VERSION:2.0
PRODID:-//Diocese of St. Augustine - ECPv4.9.10//NONSGML v1.0//EN
CALSCALE:GREGORIAN
METHOD:PUBLISH
X-WR-CALNAME:Diocese of St. Augustine
X-ORIGINAL-URL:https://dosafl.com
X-WR-CALDESC:Events for Diocese of St. Augustine
BEGIN:VTIMEZONE
TZID:America/New_York
BEGIN:DAYLIGHT
TZOFFSETFROM:-0500
TZOFFSETTO:-0400
TZNAME:EDT
DTSTART:20260308T070000
END:DAYLIGHT
BEGIN:STANDARD
TZOFFSETFROM:-0400
TZOFFSETTO:-0500
TZNAME:EST
DTSTART:20261101T060000
END:STANDARD
END:VTIMEZONE
BEGIN:VEVENT
DTSTART;TZID=America/New_York:20260510T100000
DTEND;TZID=America/New_York:20260510T100000
DTSTAMP:20260423T195024
CREATED:20260316T195149Z
LAST-MODIFIED:20260402T131626Z
UID:98443-1778407200-1778407200@dosafl.com
SUMMARY:Mother's Day Brunch at Marywood
DESCRIPTION:Please join us in celebrating all moms at the annual Mother’s Day Brunch at Marywood on Sunday May 10. A delicious brunch buffet with unique items like giant stuffed pancakes and classics such as eggs benedict and prime rib will be served. The first seating will be available at 10 a.m. and the last will be available at 12:30 p.m. Adults are priced at $33 and children between the ages of 4 to 11 years old are $12. Call Ansley Irwin at (904) 436-6591 or email ansleyirwin@marywoodcenter.org to make your reservations! \n \n
URL:https://dosafl.com/event/mothers-day-brunch-at-marywood/
LOCATION:Marywood Retreat & Conference Center\, 235 Marywood Drive\, St. Johns\, FL\, 32259\, United States
CATEGORIES:General Events,Social
ORGANIZER;CN="Ansley%20Irwin":MAILTO:ansleyirwin@marywoodcenter.org
END:VEVENT
END:VCALENDAR