BEGIN:VCALENDAR
VERSION:2.0
PRODID:-//Diocese of St. Augustine - ECPv4.9.10//NONSGML v1.0//EN
CALSCALE:GREGORIAN
METHOD:PUBLISH
X-WR-CALNAME:Diocese of St. Augustine
X-ORIGINAL-URL:https://dosafl.com
X-WR-CALDESC:Events for Diocese of St. Augustine
BEGIN:VTIMEZONE
TZID:America/New_York
BEGIN:DAYLIGHT
TZOFFSETFROM:-0500
TZOFFSETTO:-0400
TZNAME:EDT
DTSTART:20260308T070000
END:DAYLIGHT
BEGIN:STANDARD
TZOFFSETFROM:-0400
TZOFFSETTO:-0500
TZNAME:EST
DTSTART:20261101T060000
END:STANDARD
END:VTIMEZONE
BEGIN:VEVENT
DTSTART;TZID=America/New_York:20260423T180000
DTEND;TZID=America/New_York:20260423T194500
DTSTAMP:20260422T162317
CREATED:20260326T185210Z
LAST-MODIFIED:20260326T185210Z
UID:98608-1776967200-1776973500@dosafl.com
SUMMARY:St. Joseph Ministries: The God of Pebbles
DESCRIPTION:St. Joseph Ministries\, a ministry of the Sisters of St. Joseph invites you to deepen your understanding of how the Sacraments shape how we see the world.\nWhether you are new to the faith\, a life-long Catholic\, married\, single\, have a family or are simply curious—come journey with us through the Easter season. This talk will feature Joseph West\, director of evangelization withe the Diocese of St. Augustine and will be April 23 from 6 to 7:45 p.m. at the St. Joseph Neighborhood Center\, 90 Martin Luther King Ave.\, St. Augustine. There will be free parking available adjacent to the building and seating is limited so please RSVP to attend by calling Allan Poticny at 904-342-2665\, Ext. 702. \n
URL:https://dosafl.com/event/st-joseph-ministries-the-god-of-pebbles/
LOCATION:St. Joseph Neighborhood Center\, 90 M.L. King Ave.\, St. Augustine\, FL\, 32084\, United States
CATEGORIES:General Events,Social
END:VEVENT
END:VCALENDAR