BEGIN:VCALENDAR
VERSION:2.0
PRODID:-//Diocese of St. Augustine - ECPv4.9.10//NONSGML v1.0//EN
CALSCALE:GREGORIAN
METHOD:PUBLISH
X-WR-CALNAME:Diocese of St. Augustine
X-ORIGINAL-URL:https://dosafl.com
X-WR-CALDESC:Events for Diocese of St. Augustine
BEGIN:VTIMEZONE
TZID:America/New_York
BEGIN:DAYLIGHT
TZOFFSETFROM:-0500
TZOFFSETTO:-0400
TZNAME:EDT
DTSTART:20260308T070000
END:DAYLIGHT
BEGIN:STANDARD
TZOFFSETFROM:-0400
TZOFFSETTO:-0500
TZNAME:EST
DTSTART:20261101T060000
END:STANDARD
END:VTIMEZONE
BEGIN:VEVENT
DTSTART;TZID=America/New_York:20260417T190000
DTEND;TZID=America/New_York:20260417T190000
DTSTAMP:20260422T063557
CREATED:20260310T152804Z
LAST-MODIFIED:20260310T152804Z
UID:98260-1776452400-1776452400@dosafl.com
SUMMARY:St. Patrick Third Friday Concert Series
DESCRIPTION:Evening prayer will begin at 6:40 p.m. followed by the concert at 7 p.m. featuring Annasemble Community Orchestra. A free-will offering will be accepted to support the musicians. Join us for a joyful evening as the Annasemble Community Orchestra presents a delightful program of ensemble music. We warmly invite the Gainesville community to gather with friends and family for an uplifting and welcoming concert experience. \n \n
URL:https://dosafl.com/event/st-patrick-third-friday-concert-series/
LOCATION:St. Patrick Catholic Church (Gainesville)\, 500 NE 16th Avenue\, Gainesville\, FL\, 32601\, United States
CATEGORIES:General Events,Social
END:VEVENT
END:VCALENDAR