BEGIN:VCALENDAR
VERSION:2.0
PRODID:-//Diocese of St. Augustine - ECPv4.9.10//NONSGML v1.0//EN
CALSCALE:GREGORIAN
METHOD:PUBLISH
X-WR-CALNAME:Diocese of St. Augustine
X-ORIGINAL-URL:https://dosafl.com
X-WR-CALDESC:Events for Diocese of St. Augustine
BEGIN:VTIMEZONE
TZID:America/New_York
BEGIN:DAYLIGHT
TZOFFSETFROM:-0500
TZOFFSETTO:-0400
TZNAME:EDT
DTSTART:20260308T070000
END:DAYLIGHT
BEGIN:STANDARD
TZOFFSETFROM:-0400
TZOFFSETTO:-0500
TZNAME:EST
DTSTART:20261101T060000
END:STANDARD
END:VTIMEZONE
BEGIN:VEVENT
DTSTART;TZID=America/New_York:20260415T100000
DTEND;TZID=America/New_York:20260415T113000
DTSTAMP:20260422T033107
CREATED:20260326T180130Z
LAST-MODIFIED:20260326T180130Z
UID:98578-1776247200-1776252600@dosafl.com
SUMMARY:Muffins4Life
DESCRIPTION:The guest speaker for the April Muffins4Life event will be Betty McLane\, executive director of A Women’s Resource Center. The event will take place at St. John the Evangelist\, 106 N. Manitobe Ave.\, Interlachen and will begin at 10 a.m. Muffins4Life brings together life-affirming organizations and individuals in the pro-life ministry to open communication channels among participants over a great muffin. It is a time to discuss pro-life issues and meet to share pro-life initiatives. Look for the yard signs upon arrival! Registration is mandatory: https://form.jotform.com/242065644019050. \n
URL:https://dosafl.com/event/muffins4life/
LOCATION:St. John the Evangelist (Interlachen)\, 106 N. Manitoba Avenue\, Interlachen\, FL\, 32148-0207\, United States
CATEGORIES:Human Life & Dignity,Social
END:VEVENT
END:VCALENDAR