BEGIN:VCALENDAR
VERSION:2.0
PRODID:-//Diocese of St. Augustine - ECPv4.9.10//NONSGML v1.0//EN
CALSCALE:GREGORIAN
METHOD:PUBLISH
X-WR-CALNAME:Diocese of St. Augustine
X-ORIGINAL-URL:https://dosafl.com
X-WR-CALDESC:Events for Diocese of St. Augustine
BEGIN:VTIMEZONE
TZID:America/New_York
BEGIN:DAYLIGHT
TZOFFSETFROM:-0500
TZOFFSETTO:-0400
TZNAME:EDT
DTSTART:20260308T070000
END:DAYLIGHT
BEGIN:STANDARD
TZOFFSETFROM:-0400
TZOFFSETTO:-0500
TZNAME:EST
DTSTART:20261101T060000
END:STANDARD
END:VTIMEZONE
BEGIN:VEVENT
DTSTART;TZID=America/New_York:20260413T080000
DTEND;TZID=America/New_York:20260413T080000
DTSTAMP:20260422T001616
CREATED:20260115T165928Z
LAST-MODIFIED:20260115T171037Z
UID:97300-1776067200-1776067200@dosafl.com
SUMMARY:Morning Star School - Shoot for the Stars! Golf Tournament
DESCRIPTION:Join us for a day of golf in support of the Diocese of St. Augustine’s only special education school\, dedicated to serving children in our community with learning differences. The tournament will be Monday\, April 13 at Deercreek Country Club located at 7816 M.C. Laurin Drive N. in Jacksonville. Register by going to Shoot for the Stars Golf Tournament 2026. \n  \n
URL:https://dosafl.com/event/morning-star-school-shoot-for-the-stars-golf-tournament/
LOCATION:Deercreek Country Club\, 7816 McLaurin Road North\, Jacksonville\, FL\, 32256\, United States
CATEGORIES:General Events,Social
END:VEVENT
END:VCALENDAR