BEGIN:VCALENDAR
VERSION:2.0
PRODID:-//Diocese of St. Augustine - ECPv4.9.10//NONSGML v1.0//EN
CALSCALE:GREGORIAN
METHOD:PUBLISH
X-WR-CALNAME:Diocese of St. Augustine
X-ORIGINAL-URL:https://dosafl.com
X-WR-CALDESC:Events for Diocese of St. Augustine
BEGIN:VTIMEZONE
TZID:America/New_York
BEGIN:DAYLIGHT
TZOFFSETFROM:-0500
TZOFFSETTO:-0400
TZNAME:EDT
DTSTART:20260308T070000
END:DAYLIGHT
BEGIN:STANDARD
TZOFFSETFROM:-0400
TZOFFSETTO:-0500
TZNAME:EST
DTSTART:20261101T060000
END:STANDARD
END:VTIMEZONE
BEGIN:VEVENT
DTSTART;TZID=America/New_York:20260327T190000
DTEND;TZID=America/New_York:20260327T190000
DTSTAMP:20260420T223523
CREATED:20260326T184053Z
LAST-MODIFIED:20260326T184053Z
UID:98600-1774638000-1774638000@dosafl.com
SUMMARY:CCM Jax Living Stations of the Cross
DESCRIPTION:Living Stations of the Cross will be performed by Catholic Campus Ministry Jacksonville on Friday\, March 27 at 7 p.m. at Blessed Trinity Catholic Church\, 10472 Beach Blvd.\, Jacksonville. \n \n
URL:https://dosafl.com/event/ccm-jax-living-stations-of-the-cross/
LOCATION:Blessed Trinity Parish\, 10472 Beach Blvd.\, Jacksonville\, FL\, 32246\, United States
CATEGORIES:Catholic Campus Ministry,Social
END:VEVENT
END:VCALENDAR