BEGIN:VCALENDAR
VERSION:2.0
PRODID:-//Diocese of St. Augustine - ECPv4.9.10//NONSGML v1.0//EN
CALSCALE:GREGORIAN
METHOD:PUBLISH
X-WR-CALNAME:Diocese of St. Augustine
X-ORIGINAL-URL:https://dosafl.com
X-WR-CALDESC:Events for Diocese of St. Augustine
BEGIN:VTIMEZONE
TZID:America/New_York
BEGIN:DAYLIGHT
TZOFFSETFROM:-0500
TZOFFSETTO:-0400
TZNAME:EDT
DTSTART:20260308T070000
END:DAYLIGHT
BEGIN:STANDARD
TZOFFSETFROM:-0400
TZOFFSETTO:-0500
TZNAME:EST
DTSTART:20261101T060000
END:STANDARD
END:VTIMEZONE
BEGIN:VEVENT
DTSTART;TZID=America/New_York:20260321T080000
DTEND;TZID=America/New_York:20260321T130000
DTSTAMP:20260420T135555
CREATED:20260310T154259Z
LAST-MODIFIED:20260310T154259Z
UID:98268-1774080000-1774098000@dosafl.com
SUMMARY:A Day for Men: "Defense of the Faith"
DESCRIPTION:Join us for a day of faith\, learning and fellowship as the event begins with Mass at 8 a.m. on March 21 followed by the rosary and inspiring presentations by three speakers. The talks will explore key facts and incorporate insights from medicine\, all woven together to help those who attend to confidently proclaim and defend their faith. There is no registration fee and lunch will be provided. Donations for lunch are appreciated. \n \n
URL:https://dosafl.com/event/a-day-for-men-defense-of-the-faith/
LOCATION:Assumption Catholic Church\, 2403 Atlantic Blvd\, Jacksonville\, FL\, 32207\, United States
CATEGORIES:General Events,Social
END:VEVENT
BEGIN:VEVENT
DTSTART;TZID=America/New_York:20260321T090000
DTEND;TZID=America/New_York:20260321T090000
DTSTAMP:20260420T135555
CREATED:20260310T155156Z
LAST-MODIFIED:20260310T155156Z
UID:98275-1774083600-1774083600@dosafl.com
SUMMARY:St. Patrick Open Golf Tournament
DESCRIPTION:The St. Patrick Open Golf Tournament benefiting St. Patrick’s Catholic School\, will be on Saturday\, March 21 at Blue Sky Golf Club. Registration opens at 7:30 a.m. with a 9 a.m. tee off. The cost is $500 per foursome or $150 per single golfer. Sponsorships and donations are welcomed. To sign up or learn more\, contact Bailey Reid at (315) 532-4704 or (904) 768-6323 ext. 204\, or email breid@spcsjax.org. \n
URL:https://dosafl.com/event/st-patrick-open-golf-tournament/
LOCATION:Blue Sky Golf Club
CATEGORIES:General Events,Social
END:VEVENT
BEGIN:VEVENT
DTSTART;TZID=America/New_York:20260321T090000
DTEND;TZID=America/New_York:20260321T130000
DTSTAMP:20260420T135555
CREATED:20260310T160231Z
LAST-MODIFIED:20260310T160231Z
UID:98278-1774083600-1774098000@dosafl.com
SUMMARY:Marian Day of Reflection at Santa Fe Shrine of Our Lady of La Leche
DESCRIPTION:For young men\, age 16 and older who are open to the call of priesthood. This will be a day of prayer and reflection with Father Eric Stelzer and Father Clay Ludwig which will include Mass\, Holy Hour\, guided talks\, and walking on the shrine grounds. Continental breakfast and lunch will be included. There is no cost to attend but registration is required. For more information contact Michelle Clark at vocations@dosafl.com. \n \n
URL:https://dosafl.com/event/marian-day-of-reflection-at-santa-fe-shrine-of-our-lady-of-la-leche/
LOCATION:Santa Fe Shrine of Our Lady of La Leche\, 17155 NW US Hwy 441\, High Springs\, FL\, 32643\, United States
CATEGORIES:Social,Vocations
ORGANIZER;CN="Office%20of%20Vocations":MAILTO:vocations@dosafl.com
END:VEVENT
BEGIN:VEVENT
DTSTART;TZID=America/New_York:20260321T180000
DTEND;TZID=America/New_York:20260321T180000
DTSTAMP:20260420T135555
CREATED:20260224T150738Z
LAST-MODIFIED:20260224T150738Z
UID:97951-1774116000-1774116000@dosafl.com
SUMMARY:Bishop Snyder High School Spring Gala
DESCRIPTION:Join us for a fun and festive evening celebrating our Bishop Snyder community while supporting our school’s mission on Saturday\, March 21! The event will be held at The Garden Club of Jacksonville\, located at 1005 Riverside Ave. with the evening beginning at 6 p.m. \nThere will be silent and live auctions featuring categories\, such as: \n\nExperiences – VIP tickets\, travel or weekend getaways\, chef-hosted dinners\, spa days\, or exclusive behind-the-scenes opportunities\nLuxury Goods – Jewelry\, designer handbags\, watches\, artwork\, or high-end technology\nThemed Baskets – Wine or spirits\, coffee or tea\, movie night\, family fun\, or seasonal favorites\nUnique Services – Personal training packages\, home or interior design consultations\, website or graphic design services\, financial or professional services\nArtwork & One-of-a-Kind Items – Original art or unique items that can’t be found anywhere else\n\n
URL:https://dosafl.com/event/bishop-snyder-high-school-spring-gala/
LOCATION:The Garden Club of Jacksonville
CATEGORIES:General Events,Social
END:VEVENT
BEGIN:VEVENT
DTSTART;TZID=America/New_York:20260321T180000
DTEND;TZID=America/New_York:20260321T180000
DTSTAMP:20260420T135555
CREATED:20260316T171137Z
LAST-MODIFIED:20260316T171229Z
UID:98439-1774116000-1774116000@dosafl.com
SUMMARY:A Night of Praise Under the Stars
DESCRIPTION:Mary\, Queen of Heaven Catholic Church in Jacksonville is having a “Night of Praise Under the Stars” Saturday\, March 21 at 6 p.m. Sevenfold Praise\, a contemporary Christian band\, will be singing praise and worship songs and members of Encounter School of Ministry’s Gainesville campus will be on hand to provide prayer ministry during the event\, which will be held on the field near Haryasz Hall on the parish grounds. The event will move inside the hall in the case of inclement weather. The event is open to the public. \n \n
URL:https://dosafl.com/event/a-night-of-praise-under-the-stars/
LOCATION:Mary\, Queen of Heaven Parish\, 9401 Staples Mill Drive\, Jacksonville\, FL\, 32244\, United States
CATEGORIES:General Events,Social
END:VEVENT
END:VCALENDAR