BEGIN:VCALENDAR
VERSION:2.0
PRODID:-//Diocese of St. Augustine - ECPv4.9.10//NONSGML v1.0//EN
CALSCALE:GREGORIAN
METHOD:PUBLISH
X-WR-CALNAME:Diocese of St. Augustine
X-ORIGINAL-URL:https://dosafl.com
X-WR-CALDESC:Events for Diocese of St. Augustine
BEGIN:VTIMEZONE
TZID:America/New_York
BEGIN:DAYLIGHT
TZOFFSETFROM:-0500
TZOFFSETTO:-0400
TZNAME:EDT
DTSTART:20260308T070000
END:DAYLIGHT
BEGIN:STANDARD
TZOFFSETFROM:-0400
TZOFFSETTO:-0500
TZNAME:EST
DTSTART:20261101T060000
END:STANDARD
END:VTIMEZONE
BEGIN:VEVENT
DTSTART;TZID=America/New_York:20260315T120000
DTEND;TZID=America/New_York:20260315T160000
DTSTAMP:20260420T225153
CREATED:20260220T175131Z
LAST-MODIFIED:20260224T153030Z
UID:97923-1773576000-1773590400@dosafl.com
SUMMARY:St. Ambrose 143rd Annual Spring Fair
DESCRIPTION:The annual country spring fair hosted by St. Ambrose Parish includes free parking\, admission and music; as well as fresh made foods such as Minorcan Clam Chowder\, pulled pork dinners\, pulled pork taco dinners\, burgers\, hot dogs\, fries and much more! The fair will take place after the 11 a.m. Mass and will be from noon to 4 p.m. Live music will be played by Money for Nothin’ with selections that span all ages and will be perfect for dancing and singing along. A kid’s zone\, hayrides\, bake sale will also be featured along with the huge Emma’s Attic yard sale! \n \n
URL:https://dosafl.com/event/st-ambrose-143rd-annual-spring-fair/
LOCATION:St. Ambrose Parish\, 6070 Church Road\, Elkton\, FL\, 32033\, United States
CATEGORIES:General Events,Social
END:VEVENT
END:VCALENDAR