BEGIN:VCALENDAR
VERSION:2.0
PRODID:-//Diocese of St. Augustine - ECPv4.9.10//NONSGML v1.0//EN
CALSCALE:GREGORIAN
METHOD:PUBLISH
X-WR-CALNAME:Diocese of St. Augustine
X-ORIGINAL-URL:https://dosafl.com
X-WR-CALDESC:Events for Diocese of St. Augustine
BEGIN:VTIMEZONE
TZID:America/New_York
BEGIN:DAYLIGHT
TZOFFSETFROM:-0500
TZOFFSETTO:-0400
TZNAME:EDT
DTSTART:20260308T070000
END:DAYLIGHT
BEGIN:STANDARD
TZOFFSETFROM:-0400
TZOFFSETTO:-0500
TZNAME:EST
DTSTART:20261101T060000
END:STANDARD
END:VTIMEZONE
BEGIN:VEVENT
DTSTART;VALUE=DATE:20260220
DTEND;VALUE=DATE:20260223
DTSTAMP:20260422T115838
CREATED:20251205T162128Z
LAST-MODIFIED:20251205T162128Z
UID:96906-1771545600-1771804799@dosafl.com
SUMMARY:DYC XI: "Arise"
DESCRIPTION:Get ready for an inspiring weekend at the Diocesan Youth Conference from Feb. 20-22\, 2026\, at Camp Kulaqua Retreat and Conference Center in High Springs. The weekend will feature Mass celebrated by Bishop Erik Pohlmeier\, adoration\, reconciliation\, faith sharing opportunities\, music by Stella\, engaging workshops\, fun games and inspiring keynote speakers that will include Ali Hoffman\, Father Jeronimo Sanchez and Ansley Anderson. Registration is now open. If you need the registration packet emailed\, please contact Robin Shipley at rshipley@dosafl.com or Karla Rodriguez at krodriguez@dosafl.com. \n \n
URL:https://dosafl.com/event/dyc-xi-arise/
LOCATION:Camp Kulaqua\, 23400 NW 212 Ave\, High Springs\, FL\, 32643\, United States
CATEGORIES:Social,Young Adult Calendar,Youth
ORGANIZER;CN="Youth%20%26amp%3B%20Young%20Adult%20Ministry":MAILTO:rshipley@dosafl.com
END:VEVENT
BEGIN:VEVENT
DTSTART;TZID=America/New_York:20260220T190000
DTEND;TZID=America/New_York:20260220T190000
DTSTAMP:20260422T115838
CREATED:20260106T202150Z
LAST-MODIFIED:20260106T202150Z
UID:97142-1771614000-1771614000@dosafl.com
SUMMARY:St. Patrick Third Friday Concert Series
DESCRIPTION:St. Patrick Catholic Church in Gainesville will host its February Third Friday Concert Series on Feb. 20 featuring the Gainesville Flute Ensemble as the performer. \nThe Gainesville community is warmly welcome to join the parish for the uplifting concert that will begin at 7 p.m. following evening prayer at 6:40 p.m.  \n A free-will offering will be gratefully accepted in support of the musicians. St. Patrick Catholic Church is located at 500 N.E. 16th Ave. in Gainesville. For more information\, go to www.spccgnv.org/concert. \n \n
URL:https://dosafl.com/event/st-patrick-third-friday-concert-series-4/
LOCATION:St. Patrick Catholic Church (Gainesville)\, 500 NE 16th Avenue\, Gainesville\, FL\, 32601\, United States
CATEGORIES:General Events,Social
END:VEVENT
END:VCALENDAR