BEGIN:VCALENDAR
VERSION:2.0
PRODID:-//Diocese of St. Augustine - ECPv4.9.10//NONSGML v1.0//EN
CALSCALE:GREGORIAN
METHOD:PUBLISH
X-WR-CALNAME:Diocese of St. Augustine
X-ORIGINAL-URL:https://dosafl.com
X-WR-CALDESC:Events for Diocese of St. Augustine
BEGIN:VTIMEZONE
TZID:America/New_York
BEGIN:DAYLIGHT
TZOFFSETFROM:-0500
TZOFFSETTO:-0400
TZNAME:EDT
DTSTART:20260308T070000
END:DAYLIGHT
BEGIN:STANDARD
TZOFFSETFROM:-0400
TZOFFSETTO:-0500
TZNAME:EST
DTSTART:20261101T060000
END:STANDARD
END:VTIMEZONE
BEGIN:VEVENT
DTSTART;TZID=America/New_York:20260426T103000
DTEND;TZID=America/New_York:20260426T113000
DTSTAMP:20260425T231724
CREATED:20251006T142635Z
LAST-MODIFIED:20251006T142635Z
UID:95731-1777199400-1777203000@dosafl.com
SUMMARY:Confirmation
DESCRIPTION:
URL:https://dosafl.com/event/confirmation-22/
LOCATION:St. Catherine of Siena Parish\, 1649 Kingsley Avenue\, Orange Park\, FL\, 32073\, United States
CATEGORIES:Bishop Pohlmeier,General Events
END:VEVENT
BEGIN:VEVENT
DTSTART;TZID=America/New_York:20260426T170000
DTEND;TZID=America/New_York:20260426T180000
DTSTAMP:20260425T231724
CREATED:20251006T142716Z
LAST-MODIFIED:20251006T142716Z
UID:95733-1777222800-1777226400@dosafl.com
SUMMARY:Confirmation
DESCRIPTION:
URL:https://dosafl.com/event/confirmation-23/
LOCATION:St. Luke Parish\, 1606 Blanding Blvd.\, Middleburg\, FL\, 32068\, United States
CATEGORIES:Bishop Pohlmeier,General Events
END:VEVENT
END:VCALENDAR