BEGIN:VCALENDAR
VERSION:2.0
PRODID:-//Diocese of St. Augustine - ECPv4.9.10//NONSGML v1.0//EN
CALSCALE:GREGORIAN
METHOD:PUBLISH
X-WR-CALNAME:Diocese of St. Augustine
X-ORIGINAL-URL:https://dosafl.com
X-WR-CALDESC:Events for Diocese of St. Augustine
BEGIN:VTIMEZONE
TZID:America/New_York
BEGIN:DAYLIGHT
TZOFFSETFROM:-0500
TZOFFSETTO:-0400
TZNAME:EDT
DTSTART:20260308T070000
END:DAYLIGHT
BEGIN:STANDARD
TZOFFSETFROM:-0400
TZOFFSETTO:-0500
TZNAME:EST
DTSTART:20261101T060000
END:STANDARD
END:VTIMEZONE
BEGIN:VEVENT
DTSTART;TZID=America/New_York:20260419T120000
DTEND;TZID=America/New_York:20260419T130000
DTSTAMP:20260425T123134
CREATED:20251006T142333Z
LAST-MODIFIED:20251006T142333Z
UID:95723-1776600000-1776603600@dosafl.com
SUMMARY:Confirmation
DESCRIPTION:
URL:https://dosafl.com/event/confirmation-18/
LOCATION:Our Lady of Good Counsel Parish\, 5950 State Road 16\, St. Augustine\, FL\, 32092-0626\, United States
CATEGORIES:Bishop Pohlmeier,General Events
END:VEVENT
BEGIN:VEVENT
DTSTART;TZID=America/New_York:20260419T160000
DTEND;TZID=America/New_York:20260419T170000
DTSTAMP:20260425T123134
CREATED:20251006T142419Z
LAST-MODIFIED:20251006T142419Z
UID:95725-1776614400-1776618000@dosafl.com
SUMMARY:Confirmation
DESCRIPTION:
URL:https://dosafl.com/event/confirmation-19/
LOCATION:San Jose Parish\, 3619 Toledo Road\, Jacksonville\, FL\, 32217\, United States
CATEGORIES:Bishop Pohlmeier,General Events
END:VEVENT
END:VCALENDAR