BEGIN:VCALENDAR
VERSION:2.0
PRODID:-//Diocese of St. Augustine - ECPv4.9.10//NONSGML v1.0//EN
CALSCALE:GREGORIAN
METHOD:PUBLISH
X-WR-CALNAME:Diocese of St. Augustine
X-ORIGINAL-URL:https://dosafl.com
X-WR-CALDESC:Events for Diocese of St. Augustine
BEGIN:VTIMEZONE
TZID:America/New_York
BEGIN:DAYLIGHT
TZOFFSETFROM:-0500
TZOFFSETTO:-0400
TZNAME:EDT
DTSTART:20260308T070000
END:DAYLIGHT
BEGIN:STANDARD
TZOFFSETFROM:-0400
TZOFFSETTO:-0500
TZNAME:EST
DTSTART:20261101T060000
END:STANDARD
END:VTIMEZONE
BEGIN:VEVENT
DTSTART;TZID=America/New_York:20260418T090000
DTEND;TZID=America/New_York:20260418T113000
DTSTAMP:20260425T105048
CREATED:20260417T200104Z
LAST-MODIFIED:20260417T200104Z
UID:98898-1776502800-1776511800@dosafl.com
SUMMARY:"Pondering Peter's Epistles" Morning Reflection
DESCRIPTION:A morning of reflection at the Sisters of St. Joseph Motherhouse in St. Augustine will be held April 18 from 9 to 11:30 a.m. with breakfast snacks available prior beginning at 8:15 a.m. Participants will engage in the Epistles of St. Peter during a morning of reflection. A donation of $20 is appreciated to attend. To register contact Sister Jane at sjstoecker63@ssjfl.org or call 904-325-3361. \n \n
URL:https://dosafl.com/event/pondering-peters-epistles-morning-reflection/
LOCATION:Sisters of St. Joseph Motherhouse\, 241 St. George Street\, St. Augustine\, FL\, 32084\, United States
CATEGORIES:General Events
END:VEVENT
BEGIN:VEVENT
DTSTART;TZID=America/New_York:20260418T100000
DTEND;TZID=America/New_York:20260418T110000
DTSTAMP:20260425T105048
CREATED:20251006T142202Z
LAST-MODIFIED:20260129T155306Z
UID:95719-1776506400-1776510000@dosafl.com
SUMMARY:Confirmation
DESCRIPTION:
URL:https://dosafl.com/event/confirmation-16/
LOCATION:St. Joseph Catholic Church\, 11757 Old St. Augustine Road\, Jacksonville\, FL\, 32258\, United States
CATEGORIES:Bishop Pohlmeier,General Events
END:VEVENT
BEGIN:VEVENT
DTSTART;TZID=America/New_York:20260418T160000
DTEND;TZID=America/New_York:20260418T170000
DTSTAMP:20260425T105048
CREATED:20251006T142247Z
LAST-MODIFIED:20251006T142247Z
UID:95721-1776528000-1776531600@dosafl.com
SUMMARY:Confirmation
DESCRIPTION:
URL:https://dosafl.com/event/confirmation-17/
LOCATION:St. Anastasia Parish\, 5205 A1A South\, St. Augustine\, FL\, 32080\, United States
CATEGORIES:Bishop Pohlmeier,General Events
END:VEVENT
END:VCALENDAR