BEGIN:VCALENDAR
VERSION:2.0
PRODID:-//Diocese of St. Augustine - ECPv4.9.10//NONSGML v1.0//EN
CALSCALE:GREGORIAN
METHOD:PUBLISH
X-WR-CALNAME:Diocese of St. Augustine
X-ORIGINAL-URL:https://dosafl.com
X-WR-CALDESC:Events for Diocese of St. Augustine
BEGIN:VTIMEZONE
TZID:America/New_York
BEGIN:DAYLIGHT
TZOFFSETFROM:-0500
TZOFFSETTO:-0400
TZNAME:EDT
DTSTART:20260308T070000
END:DAYLIGHT
BEGIN:STANDARD
TZOFFSETFROM:-0400
TZOFFSETTO:-0500
TZNAME:EST
DTSTART:20261101T060000
END:STANDARD
END:VTIMEZONE
BEGIN:VEVENT
DTSTART;TZID=America/New_York:20260411T110000
DTEND;TZID=America/New_York:20260411T120000
DTSTAMP:20260423T023812
CREATED:20251006T141858Z
LAST-MODIFIED:20251006T141858Z
UID:95711-1775905200-1775908800@dosafl.com
SUMMARY:Confirmation
DESCRIPTION:
URL:https://dosafl.com/event/confirmation-12/
LOCATION:Epiphany Parish\, 1905 SW Epiphany Court\, Lake City\, FL\, 32025\, United States
CATEGORIES:Bishop Pohlmeier,General Events
END:VEVENT
BEGIN:VEVENT
DTSTART;TZID=America/New_York:20260411T173000
DTEND;TZID=America/New_York:20260411T183000
DTSTAMP:20260423T023812
CREATED:20251006T141951Z
LAST-MODIFIED:20251006T141951Z
UID:95713-1775928600-1775932200@dosafl.com
SUMMARY:Confirmation
DESCRIPTION:
URL:https://dosafl.com/event/confirmation-13/
LOCATION:St. Augustine Catholic Church & Student Center\, 1738 W. University Avenue\, Gainesville\, FL\, 32603\, United States
CATEGORIES:Bishop Pohlmeier,General Events
END:VEVENT
END:VCALENDAR