BEGIN:VCALENDAR
VERSION:2.0
PRODID:-//Diocese of St. Augustine - ECPv4.9.10//NONSGML v1.0//EN
CALSCALE:GREGORIAN
METHOD:PUBLISH
X-WR-CALNAME:Diocese of St. Augustine
X-ORIGINAL-URL:https://dosafl.com
X-WR-CALDESC:Events for Diocese of St. Augustine
BEGIN:VTIMEZONE
TZID:America/New_York
BEGIN:DAYLIGHT
TZOFFSETFROM:-0500
TZOFFSETTO:-0400
TZNAME:EDT
DTSTART:20260308T070000
END:DAYLIGHT
BEGIN:STANDARD
TZOFFSETFROM:-0400
TZOFFSETTO:-0500
TZNAME:EST
DTSTART:20261101T060000
END:STANDARD
END:VTIMEZONE
BEGIN:VEVENT
DTSTART;TZID=America/New_York:20260322T083000
DTEND;TZID=America/New_York:20260322T100000
DTSTAMP:20260421T185027
CREATED:20251006T141353Z
LAST-MODIFIED:20251006T141353Z
UID:95697-1774168200-1774173600@dosafl.com
SUMMARY:Confirmation
DESCRIPTION:
URL:https://dosafl.com/event/confirmation-9/
LOCATION:St. Monica Parish\, 114 S. 4th Street\, Palatka\, FL\, 32177\, United States
CATEGORIES:Bishop Pohlmeier,General Events
END:VEVENT
BEGIN:VEVENT
DTSTART;TZID=America/New_York:20260322T120000
DTEND;TZID=America/New_York:20260322T130000
DTSTAMP:20260421T185027
CREATED:20251006T141439Z
LAST-MODIFIED:20251006T141439Z
UID:95699-1774180800-1774184400@dosafl.com
SUMMARY:Feast Day Mass
DESCRIPTION:
URL:https://dosafl.com/event/feast-day-mass-2/
LOCATION:St. Joseph Catholic Church\, 11757 Old St. Augustine Road\, Jacksonville\, FL\, 32258\, United States
CATEGORIES:Bishop Pohlmeier,General Events
END:VEVENT
END:VCALENDAR