BEGIN:VCALENDAR
VERSION:2.0
PRODID:-//Diocese of St. Augustine - ECPv4.9.10//NONSGML v1.0//EN
CALSCALE:GREGORIAN
METHOD:PUBLISH
X-WR-CALNAME:Diocese of St. Augustine
X-ORIGINAL-URL:https://dosafl.com
X-WR-CALDESC:Events for Diocese of St. Augustine
BEGIN:VTIMEZONE
TZID:America/New_York
BEGIN:DAYLIGHT
TZOFFSETFROM:-0500
TZOFFSETTO:-0400
TZNAME:EDT
DTSTART:20220313T070000
END:DAYLIGHT
BEGIN:STANDARD
TZOFFSETFROM:-0400
TZOFFSETTO:-0500
TZNAME:EST
DTSTART:20221106T060000
END:STANDARD
END:VTIMEZONE
BEGIN:VEVENT
DTSTART;VALUE=DATE:20220414
DTEND;VALUE=DATE:20220415
DTSTAMP:20260423T062232
CREATED:20220203T162952Z
LAST-MODIFIED:20220203T162952Z
UID:74148-1649894400-1649980799@dosafl.com
SUMMARY:Solid Foundations Course
DESCRIPTION:Solid Foundations Course: Responding Wholeheartedly to the Call to Holiness – Lent reminds us of the Lord’s attractive call to holiness.  A unique opportunity to respond to this call is through an online course called Solid Foundations. This course will be offered on Thursday evenings\, from 7-9 pm\, starting on March 3rd by Deacon Stephen Arnold under the auspices of The School of Mary (www.schoolofmary.org). This 21-session Zoom course is intended for Catholics in any state of life who are being drawn to a deeper spiritual life. Questions? Please email contact@schoolofmary.org \n
URL:https://dosafl.com/event/solid-foundations-course-2022-04-14/
CATEGORIES:General Events
END:VEVENT
BEGIN:VEVENT
DTSTART;TZID=America/New_York:20220414T083000
DTEND;TZID=America/New_York:20220414T100000
DTSTAMP:20260423T062232
CREATED:20220302T210535Z
LAST-MODIFIED:20220302T210535Z
UID:74795-1649925000-1649930400@dosafl.com
SUMMARY:Lenten Parish Mission (Our Lady Star of the Sea\, Ponte Vedra Beach) - Morning Session with Mass
DESCRIPTION:Contact the parish for details. \n
URL:https://dosafl.com/event/lenten-parish-mission-our-lady-star-of-the-sea-ponte-vedra-beach-morning-session-with-mass-2022-04-14/
LOCATION:Our Lady Star of the Sea Catholic Church\, 545 A1A N.\, Ponte Vedra Beach\, FL\, 32082\, United States
CATEGORIES:General Events
END:VEVENT
BEGIN:VEVENT
DTSTART;TZID=America/New_York:20220414T190000
DTEND;TZID=America/New_York:20220414T203000
DTSTAMP:20260423T062232
CREATED:20220222T160014Z
LAST-MODIFIED:20220222T160014Z
UID:74528-1649962800-1649968200@dosafl.com
SUMMARY:Our Lady Star of the Sea Parish Mission
DESCRIPTION:Our Lady Star of the Sea is blessed to be having a Mission during Holy Week with Msgr. Steven Bosso from St. Vincent de Paul Seminary in Boynton Beach.  He will introduce himself and the theme Palm Sunday Masses and then preach during the weekdays Monday through Holy Thursday. \nThe theme is Christian Living in Light of the Parables of Jesus. \n
URL:https://dosafl.com/event/our-lady-star-of-the-sea-parish-mission-2022-04-14/
LOCATION:Our Lady Star of the Sea Catholic Church\, 545 A1A N.\, Ponte Vedra Beach\, FL\, 32082\, United States
CATEGORIES:General Events
END:VEVENT
BEGIN:VEVENT
DTSTART;TZID=America/New_York:20220414T190000
DTEND;TZID=America/New_York:20220414T200000
DTSTAMP:20260423T062232
CREATED:20220302T210621Z
LAST-MODIFIED:20220302T210621Z
UID:74800-1649962800-1649966400@dosafl.com
SUMMARY:Lenten Parish Mission (Our Lady Star of the Sea\, Ponte Vedra Beach) - Evening Session
DESCRIPTION:Contact the parish for details. \n
URL:https://dosafl.com/event/lenten-parish-mission-our-lady-star-of-the-sea-ponte-vedra-beach-evening-session-2022-04-14/
LOCATION:Our Lady Star of the Sea Catholic Church\, 545 A1A N.\, Ponte Vedra Beach\, FL\, 32082\, United States
CATEGORIES:General Events
END:VEVENT
END:VCALENDAR