BEGIN:VCALENDAR
VERSION:2.0
PRODID:-//Diocese of St. Augustine - ECPv4.9.10//NONSGML v1.0//EN
CALSCALE:GREGORIAN
METHOD:PUBLISH
X-WR-CALNAME:Diocese of St. Augustine
X-ORIGINAL-URL:https://dosafl.com
X-WR-CALDESC:Events for Diocese of St. Augustine
BEGIN:VTIMEZONE
TZID:America/New_York
BEGIN:DAYLIGHT
TZOFFSETFROM:-0500
TZOFFSETTO:-0400
TZNAME:EDT
DTSTART:20220313T070000
END:DAYLIGHT
BEGIN:STANDARD
TZOFFSETFROM:-0400
TZOFFSETTO:-0500
TZNAME:EST
DTSTART:20221106T060000
END:STANDARD
END:VTIMEZONE
BEGIN:VEVENT
DTSTART;TZID=America/New_York:20220315T180000
DTEND;TZID=America/New_York:20220315T190000
DTSTAMP:20260423T074801
CREATED:20220302T192841Z
LAST-MODIFIED:20220302T192841Z
UID:74726-1647367200-1647370800@dosafl.com
SUMMARY:Lenten Reconciliation Service (St. Patrick\, Jacksonville)
DESCRIPTION:
URL:https://dosafl.com/event/lenten-reconciliation-service-st-patrick-jacksonville-2022-03-15/
LOCATION:St. Patrick Catholic Church (Jacksonville)\, 601 Airport Center Drive E.\, Jacksonville\, FL\, 32218\, United States
CATEGORIES:General Events
END:VEVENT
BEGIN:VEVENT
DTSTART;TZID=America/New_York:20220315T180000
DTEND;TZID=America/New_York:20220315T190000
DTSTAMP:20260423T074801
CREATED:20220302T205441Z
LAST-MODIFIED:20220302T205441Z
UID:74750-1647367200-1647370800@dosafl.com
SUMMARY:Lenten Parish Mission (St. Anastasia\, St. Augustine)
DESCRIPTION:Contact the parish for details. \n
URL:https://dosafl.com/event/lenten-parish-mission-st-anastasia-st-augustine-2022-03-15/
LOCATION:St. Anastasia Parish\, 5205 A1A South\, St. Augustine\, FL\, 32080\, United States
CATEGORIES:General Events
END:VEVENT
BEGIN:VEVENT
DTSTART;TZID=America/New_York:20220315T190000
DTEND;TZID=America/New_York:20220315T200000
DTSTAMP:20260423T074801
CREATED:20220302T205728Z
LAST-MODIFIED:20220302T205728Z
UID:74756-1647370800-1647374400@dosafl.com
SUMMARY:Lenten Parish Mission (St. Catherine of Siena\, Orange Park)
DESCRIPTION:Join the parish community of St. Catherine of Siena in Orange Park for its Lenten mission featuring Bishop Felipe Estévez. The theme for the mission is “Do Whatever He Tells You.” For more information\, email Vincent Reilly at vreilly@stcatherineop.com. \n
URL:https://dosafl.com/event/lenten-parish-mission-st-catherine-of-siena-orange-park-2022-03-15/
LOCATION:St. Catherine of Siena Parish\, 1649 Kingsley Avenue\, Orange Park\, FL\, 32073\, United States
CATEGORIES:General Events
END:VEVENT
BEGIN:VEVENT
DTSTART;TZID=America/New_York:20220315T190000
DTEND;TZID=America/New_York:20220315T200000
DTSTAMP:20260423T074801
CREATED:20220302T205807Z
LAST-MODIFIED:20220302T205822Z
UID:74760-1647370800-1647374400@dosafl.com
SUMMARY:Lenten Parish Mission (St. Joseph\, Jacksonville)
DESCRIPTION:Contact the parish for details. \n
URL:https://dosafl.com/event/lenten-parish-mission-st-joseph-jacksonville-2022-03-15/
LOCATION:St. Joseph Parish\, 11757 Old St. Augustine Road\, Jacksonville\, FL\, 32258\, United States
CATEGORIES:General Events
END:VEVENT
END:VCALENDAR