BEGIN:VCALENDAR
VERSION:2.0
PRODID:-//Diocese of St. Augustine - ECPv4.9.10//NONSGML v1.0//EN
CALSCALE:GREGORIAN
METHOD:PUBLISH
X-WR-CALNAME:Diocese of St. Augustine
X-ORIGINAL-URL:https://dosafl.com
X-WR-CALDESC:Events for Diocese of St. Augustine
BEGIN:VTIMEZONE
TZID:America/New_York
BEGIN:DAYLIGHT
TZOFFSETFROM:-0500
TZOFFSETTO:-0400
TZNAME:EDT
DTSTART:20220313T070000
END:DAYLIGHT
BEGIN:STANDARD
TZOFFSETFROM:-0400
TZOFFSETTO:-0500
TZNAME:EST
DTSTART:20221106T060000
END:STANDARD
END:VTIMEZONE
BEGIN:VEVENT
DTSTART;TZID=America/New_York:20220314T180000
DTEND;TZID=America/New_York:20220314T190000
DTSTAMP:20260423T074121
CREATED:20220302T205326Z
LAST-MODIFIED:20220302T205347Z
UID:74744-1647280800-1647284400@dosafl.com
SUMMARY:Lenten Parish Mission (Assumption\, Jacksonville)
DESCRIPTION:Contact parish for details. \n
URL:https://dosafl.com/event/lenten-parish-mission-assumption-jacksonville-2022-03-14/
LOCATION:Assumption Catholic Church\, 2403 Atlantic Blvd\, Jacksonville\, FL\, 32207\, United States
CATEGORIES:General Events
END:VEVENT
BEGIN:VEVENT
DTSTART;TZID=America/New_York:20220314T180000
DTEND;TZID=America/New_York:20220314T190000
DTSTAMP:20260423T074121
CREATED:20220302T205441Z
LAST-MODIFIED:20220302T205441Z
UID:74747-1647280800-1647284400@dosafl.com
SUMMARY:Lenten Parish Mission (St. Anastasia\, St. Augustine)
DESCRIPTION:Contact the parish for details. \n
URL:https://dosafl.com/event/lenten-parish-mission-st-anastasia-st-augustine/
LOCATION:St. Anastasia Parish\, 5205 A1A South\, St. Augustine\, FL\, 32080\, United States
CATEGORIES:General Events
END:VEVENT
BEGIN:VEVENT
DTSTART;TZID=America/New_York:20220314T190000
DTEND;TZID=America/New_York:20220314T200000
DTSTAMP:20260423T074121
CREATED:20220302T205728Z
LAST-MODIFIED:20220302T205728Z
UID:74753-1647284400-1647288000@dosafl.com
SUMMARY:Lenten Parish Mission (St. Catherine of Siena\, Orange Park)
DESCRIPTION:Join the parish community of St. Catherine of Siena in Orange Park for its Lenten mission featuring Bishop Felipe Estévez. The theme for the mission is “Do Whatever He Tells You.” For more information\, email Vincent Reilly at vreilly@stcatherineop.com. \n
URL:https://dosafl.com/event/lenten-parish-mission-st-catherine-of-siena-orange-park/
LOCATION:St. Catherine of Siena Parish\, 1649 Kingsley Avenue\, Orange Park\, FL\, 32073\, United States
CATEGORIES:General Events
END:VEVENT
BEGIN:VEVENT
DTSTART;TZID=America/New_York:20220314T190000
DTEND;TZID=America/New_York:20220314T200000
DTSTAMP:20260423T074121
CREATED:20220302T205807Z
LAST-MODIFIED:20220302T205822Z
UID:74758-1647284400-1647288000@dosafl.com
SUMMARY:Lenten Parish Mission (St. Joseph\, Jacksonville)
DESCRIPTION:Contact the parish for details. \n
URL:https://dosafl.com/event/lenten-parish-mission-st-joseph-jacksonville/
LOCATION:St. Joseph Parish\, 11757 Old St. Augustine Road\, Jacksonville\, FL\, 32258\, United States
CATEGORIES:General Events
END:VEVENT
END:VCALENDAR