BEGIN:VCALENDAR
VERSION:2.0
PRODID:-//Diocese of St. Augustine - ECPv4.9.10//NONSGML v1.0//EN
CALSCALE:GREGORIAN
METHOD:PUBLISH
X-WR-CALNAME:Diocese of St. Augustine
X-ORIGINAL-URL:https://dosafl.com
X-WR-CALDESC:Events for Diocese of St. Augustine
BEGIN:VTIMEZONE
TZID:America/New_York
BEGIN:DAYLIGHT
TZOFFSETFROM:-0500
TZOFFSETTO:-0400
TZNAME:EDT
DTSTART:20220313T070000
END:DAYLIGHT
BEGIN:STANDARD
TZOFFSETFROM:-0400
TZOFFSETTO:-0500
TZNAME:EST
DTSTART:20221106T060000
END:STANDARD
END:VTIMEZONE
BEGIN:VEVENT
DTSTART;TZID=America/New_York:20220311T150000
DTEND;TZID=America/New_York:20220311T160000
DTSTAMP:20260423T074819
CREATED:20220302T145731Z
LAST-MODIFIED:20220302T145731Z
UID:74618-1647010800-1647014400@dosafl.com
SUMMARY:Stations of the Cross at Marywood
DESCRIPTION:Plan to arrive 15 minutes early and wait at the path entrance located along the wooded area east of Casa del Rio. For more details\, email Deacon Peter Dang at deaconpeter.d@gmail.com or call (904) 287-2525. \n
URL:https://dosafl.com/event/stations-of-the-cross-at-marywood-2022-03-11/
LOCATION:Marywood Retreat & Conference Center\, 235 Marywood Drive\, St. Johns\, FL\, 32259\, United States
CATEGORIES:General Events
ORGANIZER;CN="Deacon%20Peter%20Dang":MAILTO:deaconpeter.d@gmail.com
END:VEVENT
BEGIN:VEVENT
DTSTART;TZID=America/New_York:20220311T183000
DTEND;TZID=America/New_York:20220311T203000
DTSTAMP:20260423T074819
CREATED:20220228T195542Z
LAST-MODIFIED:20220228T195542Z
UID:74594-1647023400-1647030600@dosafl.com
SUMMARY:St. Pius V Parish Mission
DESCRIPTION:Theme: Faith Going Forward \nPresenters: internationally known lay Catholic evangelists and missionaries Tom and Jean Marie Edwards \nMarch 8: A Measure of Mercy \nMarch 9: The Gospel of Life \nMarch 10: Heart Transplant \nMarch 11: Yield to the Spirit\, Yield Spiritual Fruit \n  \nClick here for the flyer. \n
URL:https://dosafl.com/event/st-pius-v-parish-mission-2022-03-11/
LOCATION:St. Pius V Parish\, 2110 Blue Avenue\, Jacksonville\, FL\, 32209\, United States
CATEGORIES:General Events
END:VEVENT
BEGIN:VEVENT
DTSTART;TZID=America/New_York:20220311T183000
DTEND;TZID=America/New_York:20220311T183000
DTSTAMP:20260423T074819
CREATED:20220302T193023Z
LAST-MODIFIED:20220302T193023Z
UID:74735-1647023400-1647023400@dosafl.com
SUMMARY:Tri-Parish Mission for Crucifixion\, Holy Rosary and St. Pius V Parishes
DESCRIPTION:
URL:https://dosafl.com/event/tri-parish-mission-for-crucifixion-holy-rosary-and-st-pius-v-parishes-2022-03-11/
LOCATION:St. Pius V Parish\, 2110 Blue Avenue\, Jacksonville\, FL\, 32209\, United States
CATEGORIES:General Events
END:VEVENT
BEGIN:VEVENT
DTSTART;TZID=America/New_York:20220311T191500
DTEND;TZID=America/New_York:20220311T201500
DTSTAMP:20260423T074819
CREATED:20220302T192736Z
LAST-MODIFIED:20220302T192736Z
UID:74718-1647026100-1647029700@dosafl.com
SUMMARY:Lenten Reconciliation Service (St. Joseph\, Jacksonville)
DESCRIPTION:
URL:https://dosafl.com/event/lenten-reconciliation-service-st-joseph-jacksonville-2022-03-11/
LOCATION:St. Joseph Parish\, 11757 Old St. Augustine Road\, Jacksonville\, FL\, 32258\, United States
CATEGORIES:General Events
END:VEVENT
END:VCALENDAR