BEGIN:VCALENDAR
VERSION:2.0
PRODID:-//Diocese of St. Augustine - ECPv4.9.10//NONSGML v1.0//EN
CALSCALE:GREGORIAN
METHOD:PUBLISH
X-WR-CALNAME:Diocese of St. Augustine
X-ORIGINAL-URL:https://dosafl.com
X-WR-CALDESC:Events for Diocese of St. Augustine
BEGIN:VTIMEZONE
TZID:America/New_York
BEGIN:DAYLIGHT
TZOFFSETFROM:-0500
TZOFFSETTO:-0400
TZNAME:EDT
DTSTART:20220313T070000
END:DAYLIGHT
BEGIN:STANDARD
TZOFFSETFROM:-0400
TZOFFSETTO:-0500
TZNAME:EST
DTSTART:20221106T060000
END:STANDARD
END:VTIMEZONE
BEGIN:VEVENT
DTSTART;VALUE=DATE:20220310
DTEND;VALUE=DATE:20220311
DTSTAMP:20260423T092230
CREATED:20220203T162952Z
LAST-MODIFIED:20220203T162952Z
UID:74143-1646870400-1646956799@dosafl.com
SUMMARY:Solid Foundations Course
DESCRIPTION:Solid Foundations Course: Responding Wholeheartedly to the Call to Holiness – Lent reminds us of the Lord’s attractive call to holiness.  A unique opportunity to respond to this call is through an online course called Solid Foundations. This course will be offered on Thursday evenings\, from 7-9 pm\, starting on March 3rd by Deacon Stephen Arnold under the auspices of The School of Mary (www.schoolofmary.org). This 21-session Zoom course is intended for Catholics in any state of life who are being drawn to a deeper spiritual life. Questions? Please email contact@schoolofmary.org \n
URL:https://dosafl.com/event/solid-foundations-course-2022-03-10/
CATEGORIES:General Events
END:VEVENT
BEGIN:VEVENT
DTSTART;TZID=America/New_York:20220310T183000
DTEND;TZID=America/New_York:20220310T203000
DTSTAMP:20260423T092230
CREATED:20220228T195542Z
LAST-MODIFIED:20220228T195542Z
UID:74593-1646937000-1646944200@dosafl.com
SUMMARY:St. Pius V Parish Mission
DESCRIPTION:Theme: Faith Going Forward \nPresenters: internationally known lay Catholic evangelists and missionaries Tom and Jean Marie Edwards \nMarch 8: A Measure of Mercy \nMarch 9: The Gospel of Life \nMarch 10: Heart Transplant \nMarch 11: Yield to the Spirit\, Yield Spiritual Fruit \n  \nClick here for the flyer. \n
URL:https://dosafl.com/event/st-pius-v-parish-mission-2022-03-10/
LOCATION:St. Pius V Parish\, 2110 Blue Avenue\, Jacksonville\, FL\, 32209\, United States
CATEGORIES:General Events
END:VEVENT
BEGIN:VEVENT
DTSTART;TZID=America/New_York:20220310T183000
DTEND;TZID=America/New_York:20220310T183000
DTSTAMP:20260423T092230
CREATED:20220302T193023Z
LAST-MODIFIED:20220302T193023Z
UID:74734-1646937000-1646937000@dosafl.com
SUMMARY:Tri-Parish Mission for Crucifixion\, Holy Rosary and St. Pius V Parishes
DESCRIPTION:
URL:https://dosafl.com/event/tri-parish-mission-for-crucifixion-holy-rosary-and-st-pius-v-parishes-2022-03-10/
LOCATION:St. Pius V Parish\, 2110 Blue Avenue\, Jacksonville\, FL\, 32209\, United States
CATEGORIES:General Events
END:VEVENT
END:VCALENDAR